BEGIN:VCALENDAR
VERSION:2.0
PRODID:-//Tukios.com/
BEGIN:VEVENT
UID:7bd66b4b-2c6f-4ef5-882a-3d7e51c27f9f@www.whitneymurphyfuneralhome.com
DTSTAMP:20260424T031204Z
DTSTART:20260507T010000Z
DTEND:20260507T030000Z
SUMMARY:Visitation
DESCRIPTION:
URL:https://www.whitneymurphyfuneralhome.com/obituaries/bernardo-gomez
LOCATION:Whitney & Murphy Funeral Home 4800 E Indian School Rd  Phoenix 
	AZ 85018
GEO:33.4949995;-111.9770279
END:VEVENT
END:VCALENDAR