BEGIN:VCALENDAR
VERSION:2.0
PRODID:-//Tukios.com/
BEGIN:VEVENT
UID:3c5c6434-c838-4ba7-b046-cacab1d41b3e@www.whitneymurphyfuneralhome.com
DTSTAMP:20260424T031137Z
DTSTART:20260507T180000Z
DTEND:20260507T190000Z
SUMMARY:Mass
DESCRIPTION:
URL:https://www.whitneymurphyfuneralhome.com/obituaries/bernardo-gomez
LOCATION: 5045 E Thomas Rd  Phoenix AZ 85018
GEO:33.4794893;-111.9728032
END:VEVENT
END:VCALENDAR