BEGIN:VCALENDAR
VERSION:2.0
PRODID:-//Tukios.com/
BEGIN:VEVENT
UID:225f5c14-6678-4857-ae3f-bd50daf01314@www.whitneymurphyfuneralhome.com
DTSTAMP:20260424T031639Z
DTSTART:20260507T191500Z
DTEND:20260507T200000Z
SUMMARY:Burial
DESCRIPTION:
URL:https://www.whitneymurphyfuneralhome.com/obituaries/bernardo-gomez
LOCATION:St. Francis Catholic Cemetery 2033 North 48th Street  Phoenix AZ 
	85008
GEO:33.4705862;-111.9777439
END:VEVENT
END:VCALENDAR