BEGIN:VCALENDAR
VERSION:2.0
PRODID:-//Tukios.com/
BEGIN:VEVENT
UID:a14ae9dd-b066-4200-b831-ef4dbf9540d1@www.whitneymurphyfuneralhome.com
DTSTAMP:20260425T023354Z
DTSTART:20260508T000000Z
DTEND:20260508T030000Z
SUMMARY:Visitation
DESCRIPTION:
URL:https://www.whitneymurphyfuneralhome.com/obituaries/carmen-esparza
LOCATION:Whitney & Murphy Funeral Home 4800 E Indian School Rd  Phoenix 
	AZ 85018
GEO:33.4949995;-111.9770279
END:VEVENT
END:VCALENDAR