BEGIN:VCALENDAR
VERSION:2.0
PRODID:-//Tukios.com/
BEGIN:VEVENT
UID:1fe460c8-ea2b-4d89-94e9-005623ca512d@www.whitneymurphyfuneralhome.com
DTSTAMP:20260425T023450Z
DTSTART:20260508T010000Z
DTEND:20260508T020000Z
SUMMARY:Prayer Service
DESCRIPTION:
URL:https://www.whitneymurphyfuneralhome.com/obituaries/carmen-esparza
LOCATION: 4800 E Indian School Rd  Phoenix AZ 85018
GEO:33.4949995;-111.9770279
END:VEVENT
END:VCALENDAR