BEGIN:VCALENDAR
VERSION:2.0
PRODID:-//Tukios.com/
BEGIN:VEVENT
UID:9ec7d807-8ffe-4282-99ae-da1ffedc8e4d@www.whitneymurphyfuneralhome.com
DTSTAMP:20260425T023221Z
DTSTART:20260508T170000Z
DTEND:20260508T180000Z
SUMMARY:Funeral Service
DESCRIPTION:
URL:https://www.whitneymurphyfuneralhome.com/obituaries/carmen-esparza
LOCATION: 3424 N 18th Ave  Phoenix AZ 85015
GEO:33.4881777;-112.098357
END:VEVENT
END:VCALENDAR