BEGIN:VCALENDAR
VERSION:2.0
PRODID:-//Tukios.com/
BEGIN:VEVENT
UID:14a08d5b-6e88-438e-bfd2-ba8b03e92c7c@www.whitneymurphyfuneralhome.com
DTSTAMP:20260425T023703Z
DTSTART:20260508T183000Z
DTEND:20260508T191500Z
SUMMARY:Burial
DESCRIPTION:
URL:https://www.whitneymurphyfuneralhome.com/obituaries/carmen-esparza
LOCATION: 2033 N 48th St  Phoenix AZ 85008
GEO:33.4705938;-111.9777266
END:VEVENT
END:VCALENDAR