BEGIN:VCALENDAR
VERSION:2.0
PRODID:-//Tukios.com/
BEGIN:VEVENT
UID:c167d7de-b325-43ca-b8fd-7eff4ac5a6b6@www.whitneymurphyfuneralhome.com
DTSTAMP:20260421T192740Z
DTSTART:20260423T000000Z
DTEND:20260423T010000Z
SUMMARY:Visitation
DESCRIPTION:
URL:https://www.whitneymurphyfuneralhome.com/obituaries/george-sebastian
LOCATION:St Ignatius Orthodox Christian Church 2402 N Usery Pass Rd  Mesa 
	AZ 85207
GEO:33.4605553;-111.6334672
END:VEVENT
END:VCALENDAR