BEGIN:VCALENDAR
VERSION:2.0
PRODID:-//Tukios.com/
BEGIN:VEVENT
UID:acba2b6e-e007-497d-8250-4f66114c9789@www.whitneymurphyfuneralhome.com
DTSTAMP:20260421T192842Z
DTSTART:20260423T010000Z
DTEND:20260423T020000Z
SUMMARY:Prayer Service
DESCRIPTION:
URL:https://www.whitneymurphyfuneralhome.com/obituaries/george-sebastian
LOCATION:St Ignatius Orthodox Christian Church 2402 N Usery Pass Rd  Mesa 
	AZ 85207
GEO:33.4605553;-111.6334672
END:VEVENT
END:VCALENDAR