BEGIN:VCALENDAR
VERSION:2.0
PRODID:-//Tukios.com/
BEGIN:VEVENT
UID:6e2ba919-3976-43cf-b94a-b090ef83ea86@www.whitneymurphyfuneralhome.com
DTSTAMP:20260421T192215Z
DTSTART:20260423T170000Z
DTEND:20260423T180000Z
SUMMARY:Funeral Service
DESCRIPTION:
URL:https://www.whitneymurphyfuneralhome.com/obituaries/george-sebastian
LOCATION:St Ignatius Orthodox Christian Church 2402 N Usery Pass Rd  Mesa 
	AZ 85207
GEO:33.4605553;-111.6334672
END:VEVENT
END:VCALENDAR