BEGIN:VCALENDAR
VERSION:2.0
PRODID:-//Tukios.com/
BEGIN:VEVENT
UID:7a2b6ecb-1b45-4cb8-a2ca-3b22e8a67607@www.whitneymurphyfuneralhome.com
DTSTAMP:20260422T215200Z
DTSTART:20260429T170000Z
DTEND:20260429T180000Z
SUMMARY:Visitation
DESCRIPTION:
URL:https://www.whitneymurphyfuneralhome.com/obituaries/gloria-alday
LOCATION: 4800 E Indian School Rd  Phoenix AZ 85018
GEO:33.4949995;-111.9770279
END:VEVENT
END:VCALENDAR