BEGIN:VCALENDAR
VERSION:2.0
PRODID:-//Tukios.com/
BEGIN:VEVENT
UID:faf7befa-9eb3-4d13-8fae-f12b8cc1a235@www.whitneymurphyfuneralhome.com
DTSTAMP:20260422T215454Z
DTSTART:20260429T180000Z
DTEND:20260429T190000Z
SUMMARY:Funeral Service
DESCRIPTION:
URL:https://www.whitneymurphyfuneralhome.com/obituaries/gloria-alday
LOCATION: 4800 E Indian School Rd  Phoenix AZ 85018
GEO:33.4949995;-111.9770279
END:VEVENT
END:VCALENDAR