BEGIN:VCALENDAR
VERSION:2.0
PRODID:-//Tukios.com/
BEGIN:VEVENT
UID:3a7edd5c-53bc-4f7c-b055-4e3f35d5e3f4@www.whitneymurphyfuneralhome.com
DTSTAMP:20260422T215155Z
DTSTART:20260429T191500Z
DTEND:20260429T200000Z
SUMMARY:Burial
DESCRIPTION:
URL:https://www.whitneymurphyfuneralhome.com/obituaries/gloria-alday
LOCATION: 2033 N 48th St  Phoenix AZ 85008
GEO:33.4705938;-111.9777266
END:VEVENT
END:VCALENDAR