BEGIN:VCALENDAR
VERSION:2.0
PRODID:-//Tukios.com/
BEGIN:VEVENT
UID:3b39d57f-7967-4fc5-b5e2-4678ec991eba@www.whitneymurphyfuneralhome.com
DTSTAMP:20260421T010657Z
DTSTART:20260423T163000Z
DTEND:20260423T173000Z
SUMMARY:Mass
DESCRIPTION:
URL:https://www.whitneymurphyfuneralhome.com/obituaries/irene-ferguson
LOCATION: 2312 E Campbell Ave  Phoenix AZ 85016
GEO:33.5024322;-112.03104
END:VEVENT
END:VCALENDAR