BEGIN:VCALENDAR
VERSION:2.0
PRODID:-//Tukios.com/
BEGIN:VEVENT
UID:7094afbd-0408-41db-8214-5b6d124f50b4@www.whitneymurphyfuneralhome.com
DTSTAMP:20260421T010825Z
DTSTART:20260423T173000Z
DTEND:20260423T180000Z
SUMMARY:Burial
DESCRIPTION:
URL:https://www.whitneymurphyfuneralhome.com/obituaries/irene-ferguson
LOCATION: 2033 N 48th St  Phoenix AZ 85008
GEO:33.4705938;-111.9777266
END:VEVENT
END:VCALENDAR