BEGIN:VCALENDAR
VERSION:2.0
PRODID:-//Tukios.com/
BEGIN:VEVENT
UID:76484262-c984-47db-b828-4031ccd5da4a@www.whitneymurphyfuneralhome.com
DTSTAMP:20260420T213557Z
DTSTART:20260501T220000Z
DTEND:20260501T230000Z
SUMMARY:Visitation
DESCRIPTION:
URL:https://www.whitneymurphyfuneralhome.com/obituaries/jeffrey-pyburn
LOCATION: 4800 E Indian School Rd  Phoenix AZ 85018
GEO:33.4949995;-111.9770279
END:VEVENT
END:VCALENDAR