BEGIN:VCALENDAR
VERSION:2.0
PRODID:-//Tukios.com/
BEGIN:VEVENT
UID:e577b0c3-a782-4747-bbe7-62c5a1790344@www.whitneymurphyfuneralhome.com
DTSTAMP:20260420T212936Z
DTSTART:20260501T230000Z
DTEND:20260502T000000Z
SUMMARY:Memorial Service
DESCRIPTION:
URL:https://www.whitneymurphyfuneralhome.com/obituaries/jeffrey-pyburn
LOCATION: 4800 E Indian School Rd  Phoenix AZ 85018
GEO:33.4949995;-111.9770279
END:VEVENT
END:VCALENDAR