BEGIN:VCALENDAR
VERSION:2.0
PRODID:-//Tukios.com/
BEGIN:VEVENT
UID:8e04fa0a-5011-4b3d-9768-ba897b1fcf50@www.whitneymurphyfuneralhome.com
DTSTAMP:20260424T183905Z
DTSTART:20260503T180000Z
DTEND:20260503T190000Z
SUMMARY:Visitation
DESCRIPTION:
URL:https://www.whitneymurphyfuneralhome.com/obituaries/margo-smith
LOCATION: 4800 E Indian School Rd  Phoenix AZ 85018
GEO:33.4949995;-111.9770279
END:VEVENT
END:VCALENDAR