BEGIN:VCALENDAR
VERSION:2.0
PRODID:-//Tukios.com/
BEGIN:VEVENT
UID:65de9694-0437-4ae8-a94c-90c63958135a@www.whitneymurphyfuneralhome.com
DTSTAMP:20260424T184105Z
DTSTART:20260503T200000Z
DTEND:20260503T210000Z
SUMMARY:Reception
DESCRIPTION:
URL:https://www.whitneymurphyfuneralhome.com/obituaries/margo-smith
LOCATION: 4800 E Indian School Rd  Phoenix AZ 85018
GEO:33.4949995;-111.9770279
END:VEVENT
END:VCALENDAR