BEGIN:VCALENDAR
VERSION:2.0
PRODID:-//Tukios.com/
BEGIN:VEVENT
UID:4104c38f-be94-422f-9c69-8723f9be75d8@www.whitneymurphyfuneralhome.com
DTSTAMP:20260424T082309Z
DTSTART:20260428T010000Z
DTEND:20260428T013000Z
SUMMARY:Rosary
DESCRIPTION:
URL:https://www.whitneymurphyfuneralhome.com/obituaries/william-beck
LOCATION: 4800 E Indian School Rd  Phoenix AZ 85018
GEO:33.4949995;-111.9770279
END:VEVENT
END:VCALENDAR